Workbook
Name Slicer_Bulan: #N/A
Name Slicer_Kategori: #N/A
Name Slicer_Metode_Pembayaran: #N/A
Name Slicer_Nama_Produk: #N/A
Name Slicer_Nama_Sales: #N/A
Name Slicer_Tahun: #N/A
Name Slicer_Wilayah: #N/A

Sheet Data_Transaksi
A1: ID Transaksi | B1: Tanggal | C1: Bulan | D1: Tahun | E1: No Bulan | F1: Kode Produk | G1: Nama Produk | H1: Kategori | I1: ID Sales | J1: Nama Sales | K1: Wilayah | L1: Qty | M1: Harga Satuan | N1: Diskon (%) | O1: Total Penjualan | P1: Metode Pembayaran
A2: TRX0181 | B2: 46023 | C2: =TEXT(tblTransaksi[[#This Row],[Tanggal]],"mmmm") -> January | D2: =YEAR(tblTransaksi[[#This Row],[Tanggal]]) -> 2026 | E2: =MONTH(tblTransaksi[[#This Row],[Tanggal]]) -> 1 | F2: HP007 | G2: =IFERROR(_xlfn.XLOOKUP(tblTransaksi[[#This Row],[Kode Produk]],Master_Data!$A$7:$A$25,Master_Data!$B$7:$B$25),"") -> Xiaomi 14T | H2: =IFERROR(_xlfn.XLOOKUP(tblTransaksi[[#This Row],[Kode Produk]],Master_Data!$A$7:$A$25,Master_Data!$C$7:$C$25),"") -> Upper Mid-Range | I2: S002 | J2: =IFERROR(_xlfn.XLOOKUP(tblTransaksi[[#This Row],[ID Sales]],Master_Data!$G$7:$G$16,Master_Data!$H$7:$H$16),"") -> Rizky Ramadhan | K2: =IFERROR(_xlfn.XLOOKUP(tblTransaksi[[#This Row],[ID Sales]],Master_Data!$G$7:$G$16,Master_Data!$I$7:$I$16),"") -> Jakarta | L2: 4 | M2: =IFERROR(_xlfn.XLOOKUP(tblTransaksi[[#This Row],[Kode Produk]],Master_Data!$A$7:$A$25,Master_Data!$D$7:$D$25),"") -> 6499000 | N2: 0.1 | O2: =IF(OR(tblTransaksi[[#This Row],[Qty]]="",tblTransaksi[[#This Row],[Harga Satuan]]=""),"",tblTransaksi[[#This Row],[Qty]]*tblTransaksi[[#This Row],[Harga Satuan]]*(1-tblTransaksi[[#This Row],[Diskon (%)]])) -> 23396400 | P2: Transfer Bank
A3: TRX0194 | B3: 46024 | C3: =TEXT(tblTransaksi[[#This Row],[Tanggal]],"mmmm") -> January | D3: =YEAR(tblTransaksi[[#This Row],[Tanggal]]) -> 2026 | E3: =MONTH(tblTransaksi[[#This Row],[Tanggal]]) -> 1 | F3: HP018 | G3: =IFERROR(_xlfn.XLOOKUP(tblTransaksi[[#This Row],[Kode Produk]],Master_Data!$A$7:$A$25,Master_Data!$B$7:$B$25),"") -> iPhone 15 | H3: =IFERROR(_xlfn.XLOOKUP(tblTransaksi[[#This Row],[Kode Produk]],Master_Data!$A$7:$A$25,Master_Data!$C$7:$C$25),"") -> Flagship | I3: S009 | J3: =IFERROR(_xlfn.XLOOKUP(tblTransaksi[[#This Row],[ID Sales]],Master_Data!$G$7:$G$16,Master_Data!$H$7:$H$16),"") -> Reza Maulana | K3: =IFERROR(_xlfn.XLOOKUP(tblTransaksi[[#This Row],[ID Sales]],Master_Data!$G$7:$G$16,Master_Data!$I$7:$I$16),"") -> Palembang | L3: 1 | M3: =IFERROR(_xlfn.XLOOKUP(tblTransaksi[[#This Row],[Kode Produk]],Master_Data!$A$7:$A$25,Master_Data!$D$7:$D$25),"") -> 12499000 | N3: 0 | O3: =IF(OR(tblTransaksi[[#This Row],[Qty]]="",tblTransaksi[[#This Row],[Harga Satuan]]=""),"",tblTransaksi[[#This Row],[Qty]]*tblTransaksi[[#This Row],[Harga Satuan]]*(1-tblTransaksi[[#This Row],[Diskon (%)]])) -> 12499000 | P3: QRIS
A4: TRX0205 | B4: 46024 | C4: =TEXT(tblTransaksi[[#This Row],[Tanggal]],"mmmm") -> January | D4: =YEAR(tblTransaksi[[#This Row],[Tanggal]]) -> 2026 | E4: =MONTH(tblTransaksi[[#This Row],[Tanggal]]) -> 1 | F4: HP009 | G4: =IFERROR(_xlfn.XLOOKUP(tblTransaksi[[#This Row],[Kode Produk]],Master_Data!$A$7:$A$25,Master_Data!$B$7:$B$25),"") -> OPPO Reno 14 | H4: =IFERROR(_xlfn.XLOOKUP(tblTransaksi[[#This Row],[Kode Produk]],Master_Data!$A$7:$A$25,Master_Data!$C$7:$C$25),"") -> Mid-Range | I4: S008 | J4: =IFERROR(_xlfn.XLOOKUP(tblTransaksi[[#This Row],[ID Sales]],Master_Data!$G$7:$G$16,Master_Data!$H$7:$H$16),"") -> Salsa Maharani | K4: =IFERROR(_xlfn.XLOOKUP(tblTransaksi[[#This Row],[ID Sales]],Master_Data!$G$7:$G$16,Master_Data!$I$7:$I$16),"") -> Medan | L4: 4 | M4: =IFERROR(_xlfn.XLOOKUP(tblTransaksi[[#This Row],[Kode Produk]],Master_Data!$A$7:$A$25,Master_Data!$D$7:$D$25),"") -> 7499000 | N4: 0 | O4: =IF(OR(tblTransaksi[[#This Row],[Qty]]="",tblTransaksi[[#This Row],[Harga Satuan]]=""),"",tblTransaksi[[#This Row],[Qty]]*tblTransaksi[[#This Row],[Harga Satuan]]*(1-tblTransaksi[[#This Row],[Diskon (%)]])) -> 29996000 | P4: Cash
A5: TRX0056 | B5: 46025 | C5: =TEXT(tblTransaksi[[#This Row],[Tanggal]],"mmmm") -> January | D5: =YEAR(tblTransaksi[[#This Row],[Tanggal]]) -> 2026 | E5: =MONTH(tblTransaksi[[#This Row],[Tanggal]]) -> 1 | F5: HP001 | G5: =IFERROR(_xlfn.XLOOKUP(tblTransaksi[[#This Row],[Kode Produk]],Master_Data!$A$7:$A$25,Master_Data!$B$7:$B$25),"") -> Samsung Galaxy A06 | H5: =IFERROR(_xlfn.XLOOKUP(tblTransaksi[[#This Row],[Kode Produk]],Master_Data!$A$7:$A$25,Master_Data!$C$7:$C$25),"") -> Entry-Level | I5: S003 | J5: =IFERROR(_xlfn.XLOOKUP(tblTransaksi[[#This Row],[ID Sales]],Master_Data!$G$7:$G$16,Master_Data!$H$7:$H$16),"") -> Dimas Saputra | K5: =IFERROR(_xlfn.XLOOKUP(tblTransaksi[[#This Row],[ID Sales]],Master_Data!$G$7:$G$16,Master_Data!$I$7:$I$16),"") -> Bandung | L5: 2 | M5: =IFERROR(_xlfn.XLOOKUP(tblTransaksi[[#This Row],[Kode Produk]],Master_Data!$A$7:$A$25,Master_Data!$D$7:$D$25),"") -> 1699000 | N5: 0 | O5: =IF(OR(tblTransaksi[[#This Row],[Qty]]="",tblTransaksi[[#This Row],[Harga Satuan]]=""),"",tblTransaksi[[#This Row],[Qty]]*tblTransaksi[[#This Row],[Harga Satuan]]*(1-tblTransaksi[[#This Row],[Diskon (%)]])) -> 3398000 | P5: Transfer Bank
A6: TRX0373 | B6: 46025 | C6: =TEXT(tblTransaksi[[#This Row],[Tanggal]],"mmmm") -> January | D6: =YEAR(tblTransaksi[[#This Row],[Tanggal]]) -> 2026 | E6: =MONTH(tblTransaksi[[#This Row],[Tanggal]]) -> 1 | F6: HP002 | G6: =IFERROR(_xlfn.XLOOKUP(tblTransaksi[[#This Row],[Kode Produk]],Master_Data!$A$7:$A$25,Master_Data!$B$7:$B$25),"") -> Samsung Galaxy A16 5G | H6: =IFERROR(_xlfn.XLOOKUP(tblTransaksi[[#This Row],[Kode Produk]],Master_Data!$A$7:$A$25,Master_Data!$C$7:$C$25),"") -> Mid-Range | I6: S005 | J6: =IFERROR(_xlfn.XLOOKUP(tblTransaksi[[#This Row],[ID Sales]],Master_Data!$G$7:$G$16,Master_Data!$H$7:$H$16),"") -> Kevin Wijaya | K6: =IFERROR(_xlfn.XLOOKUP(tblTransaksi[[#This Row],[ID Sales]],Master_Data!$G$7:$G$16,Master_Data!$I$7:$I$16),"") -> Surabaya | L6: 1 | M6: =IFERROR(_xlfn.XLOOKUP(tblTransaksi[[#This Row],[Kode Produk]],Master_Data!$A$7:$A$25,Master_Data!$D$7:$D$25),"") -> 3199000 | N6: 0.1 | O6: =IF(OR(tblTransaksi[[#This Row],[Qty]]="",tblTransaksi[[#This Row],[Harga Satuan]]=""),"",tblTransaksi[[#This Row],[Qty]]*tblTransaksi[[#This Row],[Harga Satuan]]*(1-tblTransaksi[[#This Row],[Diskon (%)]])) -> 2879100 | P6: Transfer Bank
A7: TRX0190 | B7: 46026 | C7: =TEXT(tblTransaksi[[#This Row],[Tanggal]],"mmmm") -> January | D7: =YEAR(tblTransaksi[[#This Row],[Tanggal]]) -> 2026 | E7: =MONTH(tblTransaksi[[#This Row],[Tanggal]]) -> 1 | F7: HP007 | G7: =IFERROR(_xlfn.XLOOKUP(tblTransaksi[[#This Row],[Kode Produk]],Master_Data!$A$7:$A$25,Master_Data!$B$7:$B$25),"") -> Xiaomi 14T | H7: =IFERROR(_xlfn.XLOOKUP(tblTransaksi[[#This Row],[Kode Produk]],Master_Data!$A$7:$A$25,Master_Data!$C$7:$C$25),"") -> Upper Mid-Range | I7: S006 | J7: =IFERROR(_xlfn.XLOOKUP(tblTransaksi[[#This Row],[ID Sales]],Master_Data!$G$7:$G$16,Master_Data!$H$7:$H$16),"") -> Arif Setiawan | K7: =IFERROR(_xlfn.XLOOKUP(tblTransaksi[[#This Row],[ID Sales]],Master_Data!$G$7:$G$16,Master_Data!$I$7:$I$16),"") -> Surabaya | L7: 2 | M7: =IFERROR(_xlfn.XLOOKUP(tblTransaksi[[#This Row],[Kode Produk]],Master_Data!$A$7:$A$25,Master_Data!$D$7:$D$25),"") -> 6499000 | N7: 0 | O7: =IF(OR(tblTransaksi[[#This Row],[Qty]]="",tblTransaksi[[#This Row],[Harga Satuan]]=""),"",tblTransaksi[[#This Row],[Qty]]*tblTransaksi[[#This Row],[Harga Satuan]]*(1-tblTransaksi[[#This Row],[Diskon (%)]])) -> 12998000 | P7: E-Wallet
A8: TRX0234 | B8: 46027 | C8: =TEXT(tblTransaksi[[#This Row],[Tanggal]],"mmmm") -> January | D8: =YEAR(tblTransaksi[[#This Row],[Tanggal]]) -> 2026 | E8: =MONTH(tblTransaksi[[#This Row],[Tanggal]]) -> 1 | F8: HP008 | G8: =IFERROR(_xlfn.XLOOKUP(tblTransaksi[[#This Row],[Kode Produk]],Master_Data!$A$7:$A$25,Master_Data!$B$7:$B$25),"") -> OPPO A5 Pro | H8: =IFERROR(_xlfn.XLOOKUP(tblTransaksi[[#This Row],[Kode Produk]],Master_Data!$A$7:$A$25,Master_Data!$C$7:$C$25),"") -> Entry-Level | I8: S001 | J8: =IFERROR(_xlfn.XLOOKUP(tblTransaksi[[#This Row],[ID Sales]],Master_Data!$G$7:$G$16,Master_Data!$H$7:$H$16),"") -> Andi Pratama | K8: =IFERROR(_xlfn.XLOOKUP(tblTransaksi[[#This Row],[ID Sales]],Master_Data!$G$7:$G$16,Master_Data!$I$7:$I$16),"") -> Jakarta | L8: 4 | M8: =IFERROR(_xlfn.XLOOKUP(tblTransaksi[[#This Row],[Kode Produk]],Master_Data!$A$7:$A$25,Master_Data!$D$7:$D$25),"") -> 2499000 | N8: 0.05 | O8: =IF(OR(tblTransaksi[[#This Row],[Qty]]="",tblTransaksi[[#This Row],[Harga Satuan]]=""),"",tblTransaksi[[#This Row],[Qty]]*tblTransaksi[[#This Row],[Harga Satuan]]*(1-tblTransaksi[[#This Row],[Diskon (%)]])) -> 9496200 | P8: E-Wallet
A9: TRX0193 | B9: 46028 | C9: =TEXT(tblTransaksi[[#This Row],[Tanggal]],"mmmm") -> January | D9: =YEAR(tblTransaksi[[#This Row],[Tanggal]]) -> 2026 | E9: =MONTH(tblTransaksi[[#This Row],[Tanggal]]) -> 1 | F9: HP007 | G9: =IFERROR(_xlfn.XLOOKUP(tblTransaksi[[#This Row],[Kode Produk]],Master_Data!$A$7:$A$25,Master_Data!$B$7:$B$25),"") -> Xiaomi 14T | H9: =IFERROR(_xlfn.XLOOKUP(tblTransaksi[[#This Row],[Kode Produk]],Master_Data!$A$7:$A$25,Master_Data!$C$7:$C$25),"") -> Upper Mid-Range | I9: S009 | J9: =IFERROR(_xlfn.XLOOKUP(tblTransaksi[[#This Row],[ID Sales]],Master_Data!$G$7:$G$16,Master_Data!$H$7:$H$16),"") -> Reza Maulana | K9: =IFERROR(_xlfn.XLOOKUP(tblTransaksi[[#This Row],[ID Sales]],Master_Data!$G$7:$G$16,Master_Data!$I$7:$I$16),"") -> Palembang | L9: 2 | M9: =IFERROR(_xlfn.XLOOKUP(tblTransaksi[[#This Row],[Kode Produk]],Master_Data!$A$7:$A$25,Master_Data!$D$7:$D$25),"") -> 6499000 | N9: 0 | O9: =IF(OR(tblTransaksi[[#This Row],[Qty]]="",tblTransaksi[[#This Row],[Harga Satuan]]=""),"",tblTransaksi[[#This Row],[Qty]]*tblTransaksi[[#This Row],[Harga Satuan]]*(1-tblTransaksi[[#This Row],[Diskon (%)]])) -> 12998000 | P9: QRIS
A10: TRX0389 | B10: 46028 | C10: =TEXT(tblTransaksi[[#This Row],[Tanggal]],"mmmm") -> January | D10: =YEAR(tblTransaksi[[#This Row],[Tanggal]]) -> 2026 | E10: =MONTH(tblTransaksi[[#This Row],[Tanggal]]) -> 1 | F10: HP009 | G10: =IFERROR(_xlfn.XLOOKUP(tblTransaksi[[#This Row],[Kode Produk]],Master_Data!$A$7:$A$25,Master_Data!$B$7:$B$25),"") -> OPPO Reno 14 | H10: =IFERROR(_xlfn.XLOOKUP(tblTransaksi[[#This Row],[Kode Produk]],Master_Data!$A$7:$A$25,Master_Data!$C$7:$C$25),"") -> Mid-Range | I10: S002 | J10: =IFERROR(_xlfn.XLOOKUP(tblTransaksi[[#This Row],[ID Sales]],Master_Data!$G$7:$G$16,Master_Data!$H$7:$H$16),"") -> Rizky Ramadhan | K10: =IFERROR(_xlfn.XLOOKUP(tblTransaksi[[#This Row],[ID Sales]],Master_Data!$G$7:$G$16,Master_Data!$I$7:$I$16),"") -> Jakarta | L10: 2 | M10: =IFERROR(_xlfn.XLOOKUP(tblTransaksi[[#This Row],[Kode Produk]],Master_Data!$A$7:$A$25,Master_Data!$D$7:$D$25),"") -> 7499000 | N10: 0.05 | O10: =IF(OR(tblTransaksi[[#This Row],[Qty]]="",tblTransaksi[[#This Row],[Harga Satuan]]=""),"",tblTransaksi[[#This Row],[Qty]]*tblTransaksi[[#This Row],[Harga Satuan]]*(1-tblTransaksi[[#This Row],[Diskon (%)]])) -> 14248100 | P10: Transfer Bank
A11: TRX0188 | B11: 46031 | C11: =TEXT(tblTransaksi[[#This Row],[Tanggal]],"mmmm") -> January | D11: =YEAR(tblTransaksi[[#This Row],[Tanggal]]) -> 2026 | E11: =MONTH(tblTransaksi[[#This Row],[Tanggal]]) -> 1 | F11: HP015 | G11: =IFERROR(_xlfn.XLOOKUP(tblTransaksi[[#This Row],[Kode Produk]],Master_Data!$A$7:$A$25,Master_Data!$B$7:$B$25),"") -> Infinix Hot 50 | H11: =IFERROR(_xlfn.XLOOKUP(tblTransaksi[[#This Row],[Kode Produk]],Master_Data!$A$7:$A$25,Master_Data!$C$7:$C$25),"") -> Entry-Level | I11: S008 | J11: =IFERROR(_xlfn.XLOOKUP(tblTransaksi[[#This Row],[ID Sales]],Master_Data!$G$7:$G$16,Master_Data!$H$7:$H$16),"") -> Salsa Maharani | K11: =IFERROR(_xlfn.XLOOKUP(tblTransaksi[[#This Row],[ID Sales]],Master_Data!$G$7:$G$16,Master_Data!$I$7:$I$16),"") -> Medan | L11: 5 | M11: =IFERROR(_xlfn.XLOOKUP(tblTransaksi[[#This Row],[Kode Produk]],Master_Data!$A$7:$A$25,Master_Data!$D$7:$D$25),"") -> 1699000 | N11: 0.05 | O11: =IF(OR(tblTransaksi[[#This Row],[Qty]]="",tblTransaksi[[#This Row],[Harga Satuan]]=""),"",tblTransaksi[[#This Row],[Qty]]*tblTransaksi[[#This Row],[Harga Satuan]]*(1-tblTransaksi[[#This Row],[Diskon (%)]])) -> 8070250 | P11: Cash
A12: TRX0429 | B12: 46032 | C12: =TEXT(tblTransaksi[[#This Row],[Tanggal]],"mmmm") -> January | D12: =YEAR(tblTransaksi[[#This Row],[Tanggal]]) -> 2026 | E12: =MONTH(tblTransaksi[[#This Row],[Tanggal]]) -> 1 | F12: HP006 | G12: =IFERROR(_xlfn.XLOOKUP(tblTransaksi[[#This Row],[Kode Produk]],Master_Data!$A$7:$A$25,Master_Data!$B$7:$B$25),"") -> Xiaomi Redmi Note 14 | H12: =IFERROR(_xlfn.XLOOKUP(tblTransaksi[[#This Row],[Kode Produk]],Master_Data!$A$7:$A$25,Master_Data!$C$7:$C$25),"") -> Mid-Range | I12: S006 | J12: =IFERROR(_xlfn.XLOOKUP(tblTransaksi[[#This Row],[ID Sales]],Master_Data!$G$7:$G$16,Master_Data!$H$7:$H$16),"") -> Arif Setiawan | K12: =IFERROR(_xlfn.XLOOKUP(tblTransaksi[[#This Row],[ID Sales]],Master_Data!$G$7:$G$16,Master_Data!$I$7:$I$16),"") -> Surabaya | L12: 1 | M12: =IFERROR(_xlfn.XLOOKUP(tblTransaksi[[#This Row],[Kode Produk]],Master_Data!$A$7:$A$25,Master_Data!$D$7:$D$25),"") -> 2799000 | N12: 0 | O12: =IF(OR(tblTransaksi[[#This Row],[Qty]]="",tblTransaksi[[#This Row],[Harga Satuan]]=""),"",tblTransaksi[[#This Row],[Qty]]*tblTransaksi[[#This Row],[Harga Satuan]]*(1-tblTransaksi[[#This Row],[Diskon (%)]])) -> 2799000 | P12: E-Wallet
A13: TRX0439 | B13: 46033 | C13: =TEXT(tblTransaksi[[#This Row],[Tanggal]],"mmmm") -> January | D13: =YEAR(tblTransaksi[[#This Row],[Tanggal]]) -> 2026 | E13: =MONTH(tblTransaksi[[#This Row],[Tanggal]]) -> 1 | F13: HP009 | G13: =IFERROR(_xlfn.XLOOKUP(tblTransaksi[[#This Row],[Kode Produk]],Master_Data!$A$7:$A$25,Master_Data!$B$7:$B$25),"") -> OPPO Reno 14 | H13: =IFERROR(_xlfn.XLOOKUP(tblTransaksi[[#This Row],[Kode Produk]],Master_Data!$A$7:$A$25,Master_Data!$C$7:$C$25),"") -> Mid-Range | I13: S002 | J13: =IFERROR(_xlfn.XLOOKUP(tblTransaksi[[#This Row],[ID Sales]],Master_Data!$G$7:$G$16,Master_Data!$H$7:$H$16),"") -> Rizky Ramadhan | K13: =IFERROR(_xlfn.XLOOKUP(tblTransaksi[[#This Row],[ID Sales]],Master_Data!$G$7:$G$16,Master_Data!$I$7:$I$16),"") -> Jakarta | L13: 4 | M13: =IFERROR(_xlfn.XLOOKUP(tblTransaksi[[#This Row],[Kode Produk]],Master_Data!$A$7:$A$25,Master_Data!$D$7:$D$25),"") -> 7499000 | N13: 0 | O13: =IF(OR(tblTransaksi[[#This Row],[Qty]]="",tblTransaksi[[#This Row],[Harga Satuan]]=""),"",tblTransaksi[[#This Row],[Qty]]*tblTransaksi[[#This Row],[Harga Satuan]]*(1-tblTransaksi[[#This Row],[Diskon (%)]])) -> 29996000 | P13: QRIS
... A501: TRX0374 | B501: 46387 | C501: =TEXT(tblTransaksi[[#This Row],[Tanggal]],"mmmm") -> December | D501: =YEAR(tblTransaksi[[#This Row],[Tanggal]]) -> 2026 | E501: =MONTH(tblTransaksi[[#This Row],[Tanggal]]) -> 12 | F501: HP018 | G501: =IFERROR(_xlfn.XLOOKUP(tblTransaksi[[#This Row],[Kode Produk]],Master_Data!$A$7:$A$25,Master_Data!$B$7:$B$25),"") -> iPhone 15 | H501: =IFERROR(_xlfn.XLOOKUP(tblTransaksi[[#This Row],[Kode Produk]],Master_Data!$A$7:$A$25,Master_Data!$C$7:$C$25),"") -> Flagship | I501: S004 | J501: =IFERROR(_xlfn.XLOOKUP(tblTransaksi[[#This Row],[ID Sales]],Master_Data!$G$7:$G$16,Master_Data!$H$7:$H$16),"") -> Fajar Nugroho | K501: =IFERROR(_xlfn.XLOOKUP(tblTransaksi[[#This Row],[ID Sales]],Master_Data!$G$7:$G$16,Master_Data!$I$7:$I$16),"") -> Bandung | L501: 2 | M501: =IFERROR(_xlfn.XLOOKUP(tblTransaksi[[#This Row],[Kode Produk]],Master_Data!$A$7:$A$25,Master_Data!$D$7:$D$25),"") -> 12499000 | N501: 0 | O501: =IF(OR(tblTransaksi[[#This Row],[Qty]]="",tblTransaksi[[#This Row],[Harga Satuan]]=""),"",tblTransaksi[[#This Row],[Qty]]*tblTransaksi[[#This Row],[Harga Satuan]]*(1-tblTransaksi[[#This Row],[Diskon (%)]])) -> 24998000 | P501: QRIS

Sheet Master_Data
A4: 1. Master Produk | G4: 2. Master Sales | L4: 3. Master Metode Pembayaran
A6: Kode Produk | B6: Nama Produk | C6: Kategori | D6: Harga satuan | G6: ID Sales | H6: Nama Sales | I6: Wilayah | L6: Metode Pembayaran
A7: HP001 | B7: Samsung Galaxy A06 | C7: Entry-Level | D7: 1699000 | G7: S001 | H7: Andi Pratama | I7: Jakarta | L7: Transfer Bank
A8: HP002 | B8: Samsung Galaxy A16 5G | C8: Mid-Range | D8: 3199000 | G8: S002 | H8: Rizky Ramadhan | I8: Jakarta | L8: Cash
A9: HP003 | B9: Samsung Galaxy A36 5G | C9: Mid-Range | D9: 5199000 | G9: S003 | H9: Dimas Saputra | I9: Bandung | L9: E-Wallet
A10: HP004 | B10: Samsung Galaxy S25 | C10: Flagship | D10: 14999000 | G10: S004 | H10: Fajar Nugroho | I10: Bandung | L10: QRIS
A11: HP005 | B11: Xiaomi Redmi 14C | C11: Entry-Level | D11: 1499000 | G11: S005 | H11: Kevin Wijaya | I11: Surabaya
A12: HP006 | B12: Xiaomi Redmi Note 14 | C12: Mid-Range | D12: 2799000 | G12: S006 | H12: Arif Setiawan | I12: Surabaya
A13: HP007 | B13: Xiaomi 14T | C13: Upper Mid-Range | D13: 6499000 | G13: S007 | H13: Nadia Putri | I13: Medan
A14: HP008 | B14: OPPO A5 Pro | C14: Entry-Level | D14: 2499000 | G14: S008 | H14: Salsa Maharani | I14: Medan
A15: HP009 | B15: OPPO Reno 14 | C15: Mid-Range | D15: 7499000 | G15: S009 | H15: Reza Maulana | I15: Palembang
A16: HP010 | B16: OPPO Find X8 | C16: Flagship | D16: 13999000 | G16: S010 | H16: Aulia Rahman | I16: Palembang
A17: HP011 | B17: vivo Y29 | C17: Entry-Level | D17: 2399000
A18: HP012 | B18: vivo V50 | C18: Mid-Range | D18: 6999000
A19: HP013 | B19: realme C75 | C19: Entry-Level | D19: 2299000
A20: HP014 | B20: realme 14 Pro 5G | C20: Mid-Range | D20: 5499000
A21: HP015 | B21: Infinix Hot 50 | C21: Entry-Level | D21: 1699000
A22: HP016 | B22: Infinix Note 50 Pro | C22: Mid-Range | D22: 3199000
A23: HP017 | B23: iPhone 13 | C23: Upper Mid-Range | D23: 8499000
A24: HP018 | B24: iPhone 15 | C24: Flagship | D24: 12499000
A25: HP019 | B25: iPhone 16 | C25: Flagship | D25: 14999000

Sheet Pivot
A3: TOTAL PENJUALAN | C3: TOTAL TRANSAKSI | E3: QTY TERJUAL | G3: RATA RATA NILAI TRANSAKSI | I3: RATA RATA DISKON | K3: TREND PENJUALAN PERBULAN | N3: PENJUALAN PER KATEGORI | Q3: PENJUALAN PER WILAYAH | T3: PENJUALAN PER SALES | W3: TOP 5 PRODUK | Z3: METODE PEMBAYARAN | AC3: TOP PRODUK TERLARIS | AF3: SALES TERBAIK | AI3: WILAYAH TERBAIK | AL3: BULAN PENJUALAN TERBAIK
A7: Sum of Total Penjualan | C7: Count of ID Transaksi | E7: Sum of Qty | G7: Average of Total Penjualan | I7: Average of Diskon (%) | K7: Row Labels | L7: Sum of Total Penjualan | N7: Row Labels | O7: Sum of Total Penjualan | Q7: Row Labels | R7: Sum of Total Penjualan | T7: Row Labels | U7: Sum of Total Penjualan | W7: Row Labels | X7: Sum of Total Penjualan | Z7: Row Labels | AA7: Sum of Total Penjualan | AC7: Row Labels | AD7: Sum of Total Penjualan | AF7: Row Labels | AG7: Sum of Total Penjualan | AI7: Row Labels | AJ7: Sum of Total Penjualan | AL7: Row Labels | AM7: Sum of Total Penjualan
A8: 6087042750 | C8: 500 | E8: 1054 | G8: 12174086 | I8: 0.0488 | K8: January | L8: 452190250 | N8: Entry-Level | O8: 651670050 | Q8: Bandung | R8: 1135507300 | T8: Andi Pratama | U8: 715009800 | W8: Samsung Galaxy S25 | X8: 801696550 | Z8: Cash | AA8: 1501647350 | AC8: Samsung Galaxy S25 | AD8: 801696550 | AF8: Salsa Maharani | AG8: 741953850 | AI8: Bandung | AJ8: 1135507300 | AL8: January | AM8: 452190250
K9: February | L9: 265929150 | N9: Flagship | O9: 2857023050 | Q9: Jakarta | R9: 1271810050 | T9: Arif Setiawan | U9: 570561900 | W9: iPhone 16 | X9: 755199650 | Z9: E-Wallet | AA9: 1815559600 | AI9: Jakarta | AJ9: 1271810050 | AL9: February | AM9: 265929150
K10: March | L10: 774308400 | N10: Mid-Range | O10: 1787782600 | Q10: Medan | R10: 1246619200 | T10: Aulia Rahman | U10: 670861350 | W10: OPPO Find X8 | X10: 684551100 | Z10: QRIS | AA10: 1361560550 | AI10: Medan | AJ10: 1246619200 | AL10: March | AM10: 774308400
K11: April | L11: 515697550 | N11: Upper Mid-Range | O11: 790567050 | Q11: Palembang | R11: 1249557750 | T11: Dimas Saputra | U11: 462040450 | W11: iPhone 15 | X11: 615575750 | Z11: Transfer Bank | AA11: 1408275250 | AI11: Palembang | AJ11: 1249557750 | AL11: April | AM11: 515697550
K12: May | L12: 295963550 | Q12: Surabaya | R12: 1183548450 | T12: Fajar Nugroho | U12: 673466850 | W12: OPPO Reno 14 | X12: 490059650 | AI12: Surabaya | AJ12: 1183548450 | AL12: May | AM12: 295963550
K13: June | L13: 643045550 | T13: Kevin Wijaya | U13: 612986550 | AL13: June | AM13: 643045550
K14: July | L14: 451065250 | T14: Nadia Putri | U14: 504665350 | AL14: July | AM14: 451065250
K15: August | L15: 657124800 | T15: Reza Maulana | U15: 578696400 | AL15: August | AM15: 657124800
K16: September | L16: 491864400 | T16: Rizky Ramadhan | U16: 556800250 | AL16: September | AM16: 491864400
K17: October | L17: 609820000 | T17: Salsa Maharani | U17: 741953850 | AL17: October | AM17: 609820000
K18: November | L18: 431955900 | AL18: November | AM18: 431955900
K19: December | L19: 498077950 | AL19: December | AM19: 498077950

Sheet Dashboard
A1: SALES PERFORMANCE DASHBOARD
A2: Smartphone Retail | January - December 2026

Sheet Readme
A1: SALES PERFORMANCE DASHBOARD
A3: Created by: Sadian Juliansyah
A4: Tools: Microsoft Excel
A5: Project Type: Personal Portfolio Project
A6: Dataset: Simulated Smartphone Retail Sales Data
A7: Period: January – December 2026
A9: Project Overview
A10: Sales Performance Dashboard adalah project Microsoft Excel yang dibuat untuk mensimulasikan proses pengolahan dan analisis data penjualan pada bisnis retail smartphone.
A11: Project ini dibuat sebagai bagian dari portfolio pribadi untuk menunjukkan kemampuan dalam mengelola data transaksi, menggunakan formula Excel, membangun PivotTable, serta menyajikan data dalam dashboard yang interaktif dan mudah dipahami.
A12: Dataset yang digunakan merupakan data simulasi dan tidak berasal dari perusahaan atau client tertentu.
A14: Project Objectives
A15: Dashboard ini dirancang untuk membantu pengguna:
... A118: Seluruh nama transaksi dan data penjualan yang digunakan bersifat simulasi untuk keperluan demonstrasi kemampuan.
